BEGIN:VCALENDAR
X-WR-TIMEZONE:Europe/Berlin
X-WR-CALNAME:rbb-Kalender
VERSION:2.0
METHOD:PUBLISH
CALSCALE:GREGORIAN
PRODID:rbb-CMS DAY
BEGIN:VEVENT
CLASS:PUBLIC
URL:http://www.rbb-online.de/content/rbb/rbb/klartext/ueber_den_tag_hinaus/integration_und_migration/juedische_kinder_unter.html
DTEND:20061122T220500
DTSTART:20061122T220500
UID:/content/rbb/rbb/klartext/ueber_den_tag_hinaus/integration_und_migration/juedische_kinder_unter
DTSTAMP:20140406T070105
DESCRIPTION:Sie lebt mitten in Berlin und sie hat Angst, Angst vor arabisch-stämmigen Jugendlichen, die sie bedrohen, weil sie Jüdin ist. Mit dem israelisch-libanesischen Krieg haben die verbalen Attacken gegen Juden zugenommen. Die Anfeindungen gingen so weit, dass sich das Mädchen eine Zeit lang nur noch unter Polizeischutz zur Schule traute.
SUMMARY:Jüdische Kinder unter Polizeischutz
END:VEVENT
END:VCALENDAR
