BEGIN:VCALENDAR
X-WR-TIMEZONE:Europe/Berlin
X-WR-CALNAME:rbb-Kalender
VERSION:2.0
METHOD:PUBLISH
CALSCALE:GREGORIAN
PRODID:rbb-CMS DAY
BEGIN:VEVENT
CLASS:PUBLIC
URL:http://www.rbb-online.de/content/rbb/rbb/klartext/ueber_den_tag_hinaus/integration_und_migration/nachgefragt_was_5.html
DTEND:20050105T220500
DTSTART:20050105T220500
UID:/content/rbb/rbb/klartext/ueber_den_tag_hinaus/integration_und_migration/nachgefragt_was_5
DTSTAMP:20140406T065512
DESCRIPTION:Im Mai 2004 berichtete Klartext über Yelitza, eine 26jährige Sprachstudentin aus Venezuela. Ihr war die Mitgliedschaft in einem Berliner Fitneßstudio verweigert worden. Sie wurde wieder fortgeschickt, angeblich wegen einer langen Warteliste. Skandalös: Deutsche bekamen zur gleichen Zeit problemlos einen Mitgliedervertrag – ohne Wartezeiten! Als Klartext das Unternehmen mit dieser Praxis konfrontierte, versprach man Besserung. KLARTEXT hat nachgehakt, was aus dem Vertrag für Yelitza geworden ist.
SUMMARY:Nachgefragt – was nach den Berichten von Klartext geschah: Fitness nur für Deutsche
END:VEVENT
END:VCALENDAR
