BEGIN:VCALENDAR
X-WR-TIMEZONE:Europe/Berlin
X-WR-CALNAME:rbb-Kalender
VERSION:2.0
METHOD:PUBLISH
CALSCALE:GREGORIAN
PRODID:rbb-CMS DAY
BEGIN:VEVENT
CLASS:PUBLIC
URL:http://www.rbb-online.de/content/rbb/rbb/klartext/ueber_den_tag_hinaus/integration_und_migration/potsdam_schlaatz.html
DTEND:20090225T220500
DTSTART:20090225T220500
UID:/content/rbb/rbb/klartext/ueber_den_tag_hinaus/integration_und_migration/potsdam_schlaatz
DTSTAMP:20140406T070852
DESCRIPTION:Die Stadt Potsdam will ein neues Wohnheim für Asylbewerber schaffen. Als Standort ist Potsdam-Schlaatz angedacht. Doch die Potsdamer Wohnungsbaugenossenschaft macht dagegen mobil. Sie fürchtet u.a. der Wert ihrer Immobilien könne sinken.
SUMMARY:Potsdam-Schlaatz – Streit um neues Asylbewerberheim
END:VEVENT
END:VCALENDAR
