BEGIN:VCALENDAR
X-WR-TIMEZONE:Europe/Berlin
X-WR-CALNAME:rbb-Kalender
VERSION:2.0
METHOD:PUBLISH
CALSCALE:GREGORIAN
PRODID:rbb-CMS DAY
BEGIN:VEVENT
CLASS:PUBLIC
URL:http://www.rbb-online.de/content/rbb/rbb/klartext/ueber_den_tag_hinaus/integration_und_migration/schutzlos_ausgeliefert.html
DTEND:20060906T220500
DTSTART:20060906T220500
UID:/content/rbb/rbb/klartext/ueber_den_tag_hinaus/integration_und_migration/schutzlos_ausgeliefert
DTSTAMP:20140406T070115
DESCRIPTION:Jahrelang hat sich Seyran Ates für die Rechte muslimischer Frauen engagiert. Jetzt schließ die Anwältin ihre Kanzlei. Der Druck war groß: verbale Anfeindungen, Drohungen hat sie jahrelang ertragen, aber als ein Ehemann eine ihrer Mandantinnen auf offener Straße angreift und sie selbst bedroht zieht sie die Konsequenzen. Der deutschen Gesellschaft wirft sie vor, das Schicksal muslimischer Frauen zu ignorieren.
SUMMARY:Schutzlos ausgeliefert - Warum Seyran Ates aufgibt
END:VEVENT
END:VCALENDAR
