BEGIN:VCALENDAR
X-WR-TIMEZONE:Europe/Berlin
X-WR-CALNAME:rbb-Kalender
VERSION:2.0
METHOD:PUBLISH
CALSCALE:GREGORIAN
PRODID:rbb-CMS DAY
BEGIN:VEVENT
CLASS:PUBLIC
URL:http://www.rbb-online.de/content/rbb/rbb/klartext/ueber_den_tag_hinaus/kriminalitaet/haeusliche_gewalt.html
DTEND:20090422T222000
DTSTART:20090422T222000
UID:/content/rbb/rbb/klartext/ueber_den_tag_hinaus/kriminalitaet/haeusliche_gewalt
DTSTAMP:20140406T070527
DESCRIPTION:Die Anzeigen wegen häuslicher Gewalt steigen. Den Tätern, Männern wie Frauen, könnte geholfen werden. Seit Jahren gibt es Kurse zur so genannten "Täterarbeit". Doch in Berlin nutzt die Amtsanwaltschaft diese Präventionsmöglichkeit kaum. Ein Grund: Den Tätern sei die lange Kursdauer nicht zuzumuten.
SUMMARY:Häusliche Gewalt - Berliner Amtsanwaltschaft blockiert Täterarbeit
END:VEVENT
END:VCALENDAR
