BEGIN:VCALENDAR
X-WR-TIMEZONE:Europe/Berlin
X-WR-CALNAME:rbb-Kalender
VERSION:2.0
METHOD:PUBLISH
CALSCALE:GREGORIAN
PRODID:rbb-CMS DAY
BEGIN:VEVENT
CLASS:PUBLIC
URL:http://www.rbb-online.de/content/rbb/rbb/klartext/ueber_den_tag_hinaus/kriminalitaet/polizisten_als_gewaltopfer.html
DTEND:20091021T220500
DTSTART:20091021T220500
UID:/content/rbb/rbb/klartext/ueber_den_tag_hinaus/kriminalitaet/polizisten_als_gewaltopfer
DTSTAMP:20140406T065846
DESCRIPTION:In Teilen Kreuzbergs und Neuköllns haben sich so genannte No-Go-Areas herausgebildet. Wenn die Polizei hier ihren Pflichten nachkommen will, trifft sie auf heftigen Widerstand. Eine eigene Subkultur beherrscht die Viertel. Ist der Staat machtlos?
SUMMARY:Polizisten als Gewaltopfer – Wenn der Staat zum Angriffsziel wird
END:VEVENT
END:VCALENDAR
