BEGIN:VCALENDAR
X-WR-TIMEZONE:Europe/Berlin
X-WR-CALNAME:rbb-Kalender
VERSION:2.0
METHOD:PUBLISH
CALSCALE:GREGORIAN
PRODID:rbb-CMS DAY
BEGIN:VEVENT
CLASS:PUBLIC
URL:http://www.rbb-online.de/content/rbb/rbb/klartext/ueber_den_tag_hinaus/landespolitik_berlin/belohnt_wie_die.html
DTEND:20050525T220500
DTSTART:20050525T220500
UID:/content/rbb/rbb/klartext/ueber_den_tag_hinaus/landespolitik_berlin/belohnt_wie_die
DTSTAMP:20140406T070546
DESCRIPTION:20 Millionen Euro gab die skandalgeschüttelte Bankgesellschaft im letzten Jahr aus für so genannte "Halte-Prämien" an "Spezialisten und Leistungsträger" – wie es wörtlich heißt. Damit diese nicht lukrativere Angebote annehmen, heißt es. KLARTEXT-Nachfragen ergaben: "Halteprämien" sind in der Bankbranche heute nicht mehr üblich. Und beim derzeitigen Arbeitsmarkt auch unnötig. Die Berliner Bankgesellschaft aber zahlt das schon seit vier Jahren! Dabei könnte sie jetzt erstmals ihre Schulden beim Land Berlin abzahlen. Aber daran ist nicht zu denken.
SUMMARY:Belohnt – wie die Bankgesellschaft mit Superprämien ihre Mitarbeiter auszahlt
END:VEVENT
END:VCALENDAR
