BEGIN:VCALENDAR
X-WR-TIMEZONE:Europe/Berlin
X-WR-CALNAME:rbb-Kalender
VERSION:2.0
METHOD:PUBLISH
CALSCALE:GREGORIAN
PRODID:rbb-CMS DAY
BEGIN:VEVENT
CLASS:PUBLIC
URL:http://www.rbb-online.de/content/rbb/rbb/klartext/ueber_den_tag_hinaus/landespolitik_berlin/berlin_und_brandenburg.html
DTEND:20070711T220500
DTSTART:20070711T220500
UID:/content/rbb/rbb/klartext/ueber_den_tag_hinaus/landespolitik_berlin/berlin_und_brandenburg
DTSTAMP:20140406T065146
DESCRIPTION:Die Fusionsbemühungen zwischen Berlin und Brandenburg sind auf dem Tiefststand angekommen. Vor dem Verwaltungsgericht streiten die Länder kosten- und personalintensiv über die Entsorgungskosten eines klärschlammverseuchten Grundstücks, das Berlin von Brandenburg übernommen hat. Mediation, kleiner Dienstweg - keine Spur: Jeder beharrt auf seinem Recht. Die gemeinsame Wirtschaftsförderung wurde schon Anfang des Jahres aufgegeben. Politischer Theaterdonner und wechselseitige Schuldzuweisungen, dabei ist doch allen Experten klar: Die beiden Länder bilden eine gemeinsame Wirtschaftsregion.
SUMMARY:Berlin und Brandenburg in der Beziehungskrise
END:VEVENT
END:VCALENDAR
