BEGIN:VCALENDAR
X-WR-TIMEZONE:Europe/Berlin
X-WR-CALNAME:rbb-Kalender
VERSION:2.0
METHOD:PUBLISH
CALSCALE:GREGORIAN
PRODID:rbb-CMS DAY
BEGIN:VEVENT
CLASS:PUBLIC
URL:http://www.rbb-online.de/content/rbb/rbb/klartext/ueber_den_tag_hinaus/landespolitik_berlin/fehlender_reformwille.html
DTEND:20061025T220500
DTSTART:20061025T220500
UID:/content/rbb/rbb/klartext/ueber_den_tag_hinaus/landespolitik_berlin/fehlender_reformwille
DTSTAMP:20140406T064647
DESCRIPTION:Ob es um Überkapazitäten im öffentlichen Dienst oder die 270.000 Wohnungen im Landesbesitz geht, noch immer hat Berlin Spielräume in Sachen Landesfinanzen, so der Bundesgerichtshof. Konsequenz – keine. Nach der Devise „Wir haben genug gespart“ wollen die Koalitionäre in die nächste Legislaturperiode aufbrechen.
SUMMARY:Fehlender Reformwille – Wie der rot-rote Senat das Karlsruher Urteil ignoriert
END:VEVENT
END:VCALENDAR
