BEGIN:VCALENDAR
X-WR-TIMEZONE:Europe/Berlin
X-WR-CALNAME:rbb-Kalender
VERSION:2.0
METHOD:PUBLISH
CALSCALE:GREGORIAN
PRODID:rbb-CMS DAY
BEGIN:VEVENT
CLASS:PUBLIC
URL:http://www.rbb-online.de/content/rbb/rbb/klartext/ueber_den_tag_hinaus/landespolitik_berlin/hungerloehne_trotz.html
DTEND:20070627T220500
DTSTART:20070627T220500
UID:/content/rbb/rbb/klartext/ueber_den_tag_hinaus/landespolitik_berlin/hungerloehne_trotz
DTSTAMP:20140406T070721
DESCRIPTION:Der Wachschutzmann im Rathaus Reinickendorf träumt ebenso vom Mindestlohn, wie die Fahrkartenkontrolleure der BVG. Auch in der Kantine des Abgeordnetenhauses gibt es Gehälter weit unter Tarif. Und das, obwohl auch Berlins Regierender Bürgermeister Klaus Wowereit und seine Partei öffentlichkeitswirksam für den gesetzlichen Mindestlohn eintreten.
SUMMARY:Hungerlöhne trotz Mindestlohnkampagne
END:VEVENT
END:VCALENDAR
