BEGIN:VCALENDAR
X-WR-TIMEZONE:Europe/Berlin
X-WR-CALNAME:rbb-Kalender
VERSION:2.0
METHOD:PUBLISH
CALSCALE:GREGORIAN
PRODID:rbb-CMS DAY
BEGIN:VEVENT
CLASS:PUBLIC
URL:http://www.rbb-online.de/content/rbb/rbb/klartext/ueber_den_tag_hinaus/landespolitik_berlin/linkspartei___vorwaerts.html
DTEND:20090520T222000
DTSTART:20090520T222000
UID:/content/rbb/rbb/klartext/ueber_den_tag_hinaus/landespolitik_berlin/linkspartei___vorwaerts
DTSTAMP:20140406T065828
DESCRIPTION:Mit dem Austritt des Berliner Abgeordneten Carl Wechselberg aus der Partei Die Linke ist der Streit offenbar geworden: Ostdeutsche Reformer versus Altlinke aus den alten Bundesländern. Wohin steuert die Partei?
SUMMARY:Linkspartei - Vorwärts in die Vergangenheit
END:VEVENT
END:VCALENDAR
