BEGIN:VCALENDAR
X-WR-TIMEZONE:Europe/Berlin
X-WR-CALNAME:rbb-Kalender
VERSION:2.0
METHOD:PUBLISH
CALSCALE:GREGORIAN
PRODID:rbb-CMS DAY
BEGIN:VEVENT
CLASS:PUBLIC
URL:http://www.rbb-online.de/content/rbb/rbb/klartext/ueber_den_tag_hinaus/landespolitik_berlin/polit_traeume_in_neuer.html
DTEND:20050622T220500
DTSTART:20050622T220500
UID:/content/rbb/rbb/klartext/ueber_den_tag_hinaus/landespolitik_berlin/polit_traeume_in_neuer
DTSTAMP:20140406T065804
DESCRIPTION:Wer ist die WASG? Am Wochenende wird in Brandenburg die Satzung der neuen Partei verabschiedet, in Berlin tagt ebenfalls die WASG, um sich für die Aufstellung zur Bundestagswahl zu rüsten. Klartext portraitiert die Frustrierten anderer Parteien, die sich hier zu einem neuen Bündnis zusammenfinden: Ex-Funktionäre der DDR, frustrierte PDS- und SPDler, Gewerkschafter, Arbeitslose. Was eint sie, gibt es überhaupt Ansätze einer konkreten neuen Politik – oder erschöpft sich die WASG in der allen gemeinsamen Unzufriedenheit?
SUMMARY:Polit-Träume in neuer Partei
END:VEVENT
END:VCALENDAR
