BEGIN:VCALENDAR
X-WR-TIMEZONE:Europe/Berlin
X-WR-CALNAME:rbb-Kalender
VERSION:2.0
METHOD:PUBLISH
CALSCALE:GREGORIAN
PRODID:rbb-CMS DAY
BEGIN:VEVENT
CLASS:PUBLIC
URL:http://www.rbb-online.de/content/rbb/rbb/klartext/ueber_den_tag_hinaus/landespolitik_berlin/uferlos_wasserpreise.html
DTEND:20040421T220500
DTSTART:20040421T220500
UID:/content/rbb/rbb/klartext/ueber_den_tag_hinaus/landespolitik_berlin/uferlos_wasserpreise
DTSTAMP:20140406T065816
DESCRIPTION:Die Haushaltskasse der Berliner wird wieder einmal mehr belastet: die Wasserpreise sind um 15 Prozent gestiegen. Aber das ist nicht alles. Zusätzlich wird die Senatskasse geschröpft und letztendlich der Steuerzahler, weil die Wasserbetriebe sich ihre Umsatzverluste ausgleichen lassen. So steht es in einem Vertrag, den die damalige Finanzsenatorin Anette Fugmann-Heesing zur Teilprivatisierung der Wasserbetriebe ausgehandelt hat. Ein schlechter Vertrag, sagen Kritiker und ein guter für Fugmann-Heesing. Ein Zufall?
SUMMARY:Uferlos: Wasserpreise in Berlin künstlich hochgehalten
END:VEVENT
END:VCALENDAR
