BEGIN:VCALENDAR
X-WR-TIMEZONE:Europe/Berlin
X-WR-CALNAME:rbb-Kalender
VERSION:2.0
METHOD:PUBLISH
CALSCALE:GREGORIAN
PRODID:rbb-CMS DAY
BEGIN:VEVENT
CLASS:PUBLIC
URL:http://www.rbb-online.de/content/rbb/rbb/klartext/ueber_den_tag_hinaus/landespolitik_brandenburg/lausitzring_mit.html
DTEND:20031118T220500
DTSTART:20031118T220500
UID:/content/rbb/rbb/klartext/ueber_den_tag_hinaus/landespolitik_brandenburg/lausitzring_mit
DTSTAMP:20140406T064827
DESCRIPTION:Der Lausitzring ist ein in Beton gegossener Albtraum. Trotz unzähliger Fördermillionen taumelt der Koloss seit längerem dicht an der Zahlungsunfähigkeit. Die Formel 1 ist überall auf der Welt, nur nicht in der Lausitz, auch die Champcar hat sich schnell wieder aus dem Staub gemacht.\nUnd obwohl niemand weiß, wie die Rennstrecke jemals profitabel werden soll, buttert die Landesregierung weitere Steuermillionen in das Projekt. Die neue, alte Geschäftsführung freut sich.
SUMMARY:Lausitzring - Mit neuen Subventionen in die Zukunft
END:VEVENT
END:VCALENDAR
