BEGIN:VCALENDAR
X-WR-TIMEZONE:Europe/Berlin
X-WR-CALNAME:rbb-Kalender
VERSION:2.0
METHOD:PUBLISH
CALSCALE:GREGORIAN
PRODID:rbb-CMS DAY
BEGIN:VEVENT
CLASS:PUBLIC
URL:http://www.rbb-online.de/content/rbb/rbb/klartext/ueber_den_tag_hinaus/rechts__und_linksextremismus/1_mai_buergersinn.html
DTEND:20070502T220500
DTSTART:20070502T220500
UID:/content/rbb/rbb/klartext/ueber_den_tag_hinaus/rechts__und_linksextremismus/1_mai_buergersinn
DTSTAMP:20140406T064633
DESCRIPTION:My-Fest gegen Mai-Randale. Seit Jahren engagieren sich Kreuzberger Bürger gegen tumultartige Zustände in ihrem Kiez rund um den 1. Mai. Bürgersinn, der aufklären will ohne zu zerstören. KLARTEXT begleitet die „Macher“.
SUMMARY:1. Mai: Bürgersinn gegen Mai-Randale
END:VEVENT
END:VCALENDAR
