BEGIN:VCALENDAR
X-WR-TIMEZONE:Europe/Berlin
X-WR-CALNAME:rbb-Kalender
VERSION:2.0
METHOD:PUBLISH
CALSCALE:GREGORIAN
PRODID:rbb-CMS DAY
BEGIN:VEVENT
CLASS:PUBLIC
URL:http://www.rbb-online.de/content/rbb/rbb/klartext/ueber_den_tag_hinaus/rechts__und_linksextremismus/auslaenderfreie_zonen.html
DTEND:20060531T220500
DTSTART:20060531T220500
UID:/content/rbb/rbb/klartext/ueber_den_tag_hinaus/rechts__und_linksextremismus/auslaenderfreie_zonen
DTSTAMP:20140406T065252
DESCRIPTION:In der Sendung „Christiansen“ hat der Bürgermeister von Guben seine Stadt lautstark verteidigt, „No-go-areas“ seien in Guben kein Thema. Doch KLARTEXT hat nachgeschaut. Guben ist eine ganz normale Stadt in Brandenburg – von deren Alltag der Bürgermeister scheinbar wenig weiß.
SUMMARY:Ausländerfreie Zonen in Guben?
END:VEVENT
END:VCALENDAR
