BEGIN:VCALENDAR
X-WR-TIMEZONE:Europe/Berlin
X-WR-CALNAME:rbb-Kalender
VERSION:2.0
METHOD:PUBLISH
CALSCALE:GREGORIAN
PRODID:rbb-CMS DAY
BEGIN:VEVENT
CLASS:PUBLIC
URL:http://www.rbb-online.de/content/rbb/rbb/klartext/ueber_den_tag_hinaus/rechts__und_linksextremismus/drohungen_gegen_einen.html
DTEND:20041215T220500
DTSTART:20041215T220500
UID:/content/rbb/rbb/klartext/ueber_den_tag_hinaus/rechts__und_linksextremismus/drohungen_gegen_einen
DTSTAMP:20140406T065307
DESCRIPTION:Polizeidirektor Michael Knape - er ist zuständig für den Südosten Berlins, wo es die größte Neonazidichte der Stadt gibt. Er wendet das Polizeirecht offensiv an, sprengt die Partys von Rechtsextremisten, verhindert Rockkonzerte. Die Szene ist unter Druck. Dafür wird Knape gehasst. Der Mann, der den Neonazis in ihrer Hochburg die Stirn bietet – nun selbst im Visier der Rechtsextremen.
SUMMARY:Drohungen gegen einen Polizeidirektor – Rechtsextremisten gehen in die Offensive
END:VEVENT
END:VCALENDAR
