BEGIN:VCALENDAR
X-WR-TIMEZONE:Europe/Berlin
X-WR-CALNAME:rbb-Kalender
VERSION:2.0
METHOD:PUBLISH
CALSCALE:GREGORIAN
PRODID:rbb-CMS DAY
BEGIN:VEVENT
CLASS:PUBLIC
URL:http://www.rbb-online.de/content/rbb/rbb/klartext/ueber_den_tag_hinaus/rechts__und_linksextremismus/nichts_dazugelernt.html
DTEND:20100609T221500
DTSTART:20100609T221500
UID:/content/rbb/rbb/klartext/ueber_den_tag_hinaus/rechts__und_linksextremismus/nichts_dazugelernt
DTSTAMP:20140406T070520
DESCRIPTION:Als am 23. Januar auf das „Haus der Demokratie“ in Zossen ein Brandanschlag verübt wurde, gab man sich empört über das Treiben rechtsradikaler Jugendlicher. Vor wenigen Tagen kam es erneut zu einem versuchten Brandanschlag. Im Visier – das Auto eines Mitglieds der Bürgerinitiative „Zossen zeigt Gesicht“. Doch damals wie heute fehlt es in der Stadtverwaltung und bei der Bürgermeisterin an einem klaren Signal gegen rechts. Eine Momentaufnahme aus der Provinz.
SUMMARY:Nichts dazugelernt? Wieder rechtsradikaler Brandschlag in Zossen
END:VEVENT
END:VCALENDAR
