BEGIN:VCALENDAR
X-WR-TIMEZONE:Europe/Berlin
X-WR-CALNAME:rbb-Kalender
VERSION:2.0
METHOD:PUBLISH
CALSCALE:GREGORIAN
PRODID:rbb-CMS DAY
BEGIN:VEVENT
CLASS:PUBLIC
URL:http://www.rbb-online.de/content/rbb/rbb/klartext/ueber_den_tag_hinaus/rechts__und_linksextremismus/rechtsradikales_gedenken.html
DTEND:20061122T220500
DTSTART:20061122T220500
UID:/content/rbb/rbb/klartext/ueber_den_tag_hinaus/rechts__und_linksextremismus/rechtsradikales_gedenken
DTSTAMP:20140406T070810
DESCRIPTION:Sie geben sich gern bürgerlich und konservativ, die Abgeordneten der DVU im Potsdamer Landtag. Sie wenden sich gegen das Demonstrationsverbot auf dem Friedhof in Halbe, das im Brandenburger Landtag beschlossen wurde. Obwohl sie selbst dort nicht zu Demonstrationen aufgerufen haben, stärken sie anderen Rechtsradikalen den Rücken. Knapp tausend Demonstranten missbrauchten am Sonnabend die Kriegstoten von Halbe und demonstrierten in Seelow, um ihren aggressiven Militarismus zu feiern. Sinnloses Sterben wird von Rechtsextremisten immer noch zur Heldentat verklärt.
SUMMARY:Rechtsradikales Gedenken: Halbe und die DVU
END:VEVENT
END:VCALENDAR
