BEGIN:VCALENDAR
X-WR-TIMEZONE:Europe/Berlin
X-WR-CALNAME:rbb-Kalender
VERSION:2.0
METHOD:PUBLISH
CALSCALE:GREGORIAN
PRODID:rbb-CMS DAY
BEGIN:VEVENT
CLASS:PUBLIC
URL:http://www.rbb-online.de/content/rbb/rbb/klartext/ueber_den_tag_hinaus/soziales/hartz_iv_land___eine.html
DTEND:20100303T221500
DTSTART:20100303T221500
UID:/content/rbb/rbb/klartext/ueber_den_tag_hinaus/soziales/hartz_iv_land___eine
DTSTAMP:20140406T064947
DESCRIPTION:Während die einen über die Höhe der Hartz-IV-Sätze streiten, richten sich die anderen in der Hartz-IV-Welt ein. Hartz-IV, das heißt auch, Leben leben zwischen unerfüllbaren Träumen und Mitnehmen, was geht.
SUMMARY:Hartz-IV-Land - Eine Reportage aus Marzahn-Hellersdorf
END:VEVENT
END:VCALENDAR
