BEGIN:VCALENDAR
X-WR-TIMEZONE:Europe/Berlin
X-WR-CALNAME:rbb-Kalender
VERSION:2.0
METHOD:PUBLISH
CALSCALE:GREGORIAN
PRODID:rbb-CMS DAY
BEGIN:VEVENT
CLASS:PUBLIC
URL:http://www.rbb-online.de/content/rbb/rbb/klartext/ueber_den_tag_hinaus/soziales/im_stich_gelassen.html
DTEND:20050413T220500
DTSTART:20050413T220500
UID:/content/rbb/rbb/klartext/ueber_den_tag_hinaus/soziales/im_stich_gelassen
DTSTAMP:20140406T064748
DESCRIPTION:Das Dorf Potzlow in der Uckermark: 2003 fanden Polizeibeamte in einer Jauchegrube in der Nähe eines Schweinestalls die Leiche des 16jährigen Schülers Marinus Schöberl. Marinus Schöberl wurde bestialisch ermordet – Vorbild war eine Gewaltszene aus einem amerikanischen Film. Die Mörder waren Jugendliche mit rechtsextremer Gesinnung. Entsetzen und Empörung gab es in ganz Deutschland. Damals sprachen Politiker von Beistand und Hilfe für das Dorf, allen voran der Ministerpräsident des Landes Brandenburg. Zwei Jahre danach schaut KLARTEXT nach. Ergebnis: In Potzlow existieren nach wie vor die gleichen sozialen Probleme, die mutige Sozialarbeiterin Petra Freiberg steht vor einem Scherbenhaufen. Jetzt ist auf einmal kein Geld da für die Arbeit mit den gefährdeten Jugendlichen. Wo bleibt die versprochene Unterstützung durch die Politiker?
SUMMARY:Im Stich gelassen – Jugendsozialarbeiterin kämpft allein in Potzlow
END:VEVENT
END:VCALENDAR
