BEGIN:VCALENDAR
X-WR-TIMEZONE:Europe/Berlin
X-WR-CALNAME:rbb-Kalender
VERSION:2.0
METHOD:PUBLISH
CALSCALE:GREGORIAN
PRODID:rbb-CMS DAY
BEGIN:VEVENT
CLASS:PUBLIC
URL:http://www.rbb-online.de/content/rbb/rbb/klartext/ueber_den_tag_hinaus/soziales/zahnlose_job_center.html
DTEND:20100317T221500
DTSTART:20100317T221500
UID:/content/rbb/rbb/klartext/ueber_den_tag_hinaus/soziales/zahnlose_job_center
DTSTAMP:20140406T065301
DESCRIPTION:Politiker fordern härtere Sanktionen für arbeitsunwillige Hartz IV-Empfänger. Wir haben einen Job Center-Mitarbeiter im Alltag begleitet. Sein Fazit: Eigentlich würden die gesetzlichen Sanktionen ausreichen, wenn die Mitarbeiter nur die Möglichkeit hätten, sie umzusetzen.
SUMMARY:Zahnlose Job-Center - Keine Macht gegen Hartz IV Drückeberger?
END:VEVENT
END:VCALENDAR
