BEGIN:VCALENDAR
X-WR-TIMEZONE:Europe/Berlin
X-WR-CALNAME:rbb-Kalender
VERSION:2.0
METHOD:PUBLISH
CALSCALE:GREGORIAN
PRODID:rbb-CMS DAY
BEGIN:VEVENT
CLASS:PUBLIC
URL:http://www.rbb-online.de/content/rbb/rbb/klartext/ueber_den_tag_hinaus/staedteplanung_und/kuerzung_der_staedtebaufoerderung.html
DTEND:20101027T221500
DTSTART:20101027T221500
UID:/content/rbb/rbb/klartext/ueber_den_tag_hinaus/staedteplanung_und/kuerzung_der_staedtebaufoerderung
DTSTAMP:20140406T070830
DESCRIPTION:Städtebauförderung hilft, den Verfall der Städte zu stoppen und positive Anreize für die Bevölkerungs- und Wirtschaftsentwicklung zu setzen. Doch der Bund will die Mittel drastisch kürzen. Welche Konsequenzen dies hat, zeigt KLARTEXT an den Beispielen Cottbus und Jüterbog.\n
SUMMARY:Kürzung der Städtebauförderung - Desaster für Brandenburger Stadtentwicklung
END:VEVENT
END:VCALENDAR
