BEGIN:VCALENDAR
X-WR-TIMEZONE:Europe/Berlin
X-WR-CALNAME:rbb-Kalender
VERSION:2.0
METHOD:PUBLISH
CALSCALE:GREGORIAN
PRODID:rbb-CMS DAY
BEGIN:VEVENT
CLASS:PUBLIC
URL:http://www.rbb-online.de/content/rbb/rbb/klartext/ueber_den_tag_hinaus/staedteplanung_und/wittenberge_nord.html
DTEND:20040210T220500
DTSTART:20040210T220500
UID:/content/rbb/rbb/klartext/ueber_den_tag_hinaus/staedteplanung_und/wittenberge_nord
DTSTAMP:20140406T064958
DESCRIPTION:Wittenberge soll schöner werden, aber wohin mit den Alkoholikern, Sozialhilfeempfängern und sonstigen "Störenfrieden"? Eine kommunale Wohnungsbaugesellschaft hat sich eine Lösung ausgedacht. Ein Ghetto am Rande der Stadt.
SUMMARY:Wittenberge-Nord - Ein Ghetto am Rande der Stadt
END:VEVENT
END:VCALENDAR
