BEGIN:VCALENDAR
X-WR-TIMEZONE:Europe/Berlin
X-WR-CALNAME:rbb-Kalender
VERSION:2.0
METHOD:PUBLISH
CALSCALE:GREGORIAN
PRODID:rbb-CMS DAY
BEGIN:VEVENT
CLASS:PUBLIC
URL:http://www.rbb-online.de/content/rbb/rbb/klartext/ueber_den_tag_hinaus/staedteplanung_und/zocken_ohne_ende_.html
DTEND:20100929T221500
DTSTART:20100929T221500
UID:/content/rbb/rbb/klartext/ueber_den_tag_hinaus/staedteplanung_und/zocken_ohne_ende_
DTSTAMP:20140406T065919
DESCRIPTION:Immer mehr Spielhallen schießen wie Pilze aus dem Boden. Genervte Anwohner befürchten eine Abwertung ihrer Kieze und machen bei den Bezirken Druck. Doch die haben kaum eine Handhabe gegen die Neueröffnung solcher Hallen, da Spielautomaten nicht unter das staatliche Glücksspielmonopol fallen. Und somit ist dem Geschäft mit der Spielsucht kaum eine Grenze gesetzt. Dabei birgt gerade das Spielen an Spielautomaten das höchste Suchtpotential.\n
SUMMARY:Zocken ohne Ende - Spielhallenparadies Berlin?
END:VEVENT
END:VCALENDAR
