BEGIN:VCALENDAR
X-WR-TIMEZONE:Europe/Berlin
X-WR-CALNAME:rbb-Kalender
VERSION:2.0
METHOD:PUBLISH
CALSCALE:GREGORIAN
PRODID:rbb-CMS DAY
BEGIN:VEVENT
CLASS:PUBLIC
URL:http://www.rbb-online.de/content/rbb/rbb/klartext/ueber_den_tag_hinaus/staedteplanung_und/zocker_im_rathaus.html
DTEND:20101208T221500
DTSTART:20101208T221500
UID:/content/rbb/rbb/klartext/ueber_den_tag_hinaus/staedteplanung_und/zocker_im_rathaus
DTSTAMP:20140406T064916
DESCRIPTION:Angermünde steht vor einer selbst verschuldeten Katastrophe: Für rund 9,3 Millionen Euro Altkredite muss die Stadt möglicherweise haften. Dabei hatte sie gehofft, genau diese Schulden durch den Verkauf der kommunalen Wohnungsbaugesellschaft BWG vor wenigen Jahren loszuwerden. Doch der Coup erweist sich als Flop: Letzte Woche wurde für die BWG das Insolvenzverfahren eröffnet - und die Stadt hat für das Geld gebürgt. Kritiker schätzen, dass dies ihr Investitionsvolumen für die nächsten zehn Jahre halbieren könnte - Kindergärten, Schulen und Altenheime werden das zu spüren bekommen.\n
SUMMARY:Zocken um Immobilien - riskante Wohungsdeals in Brandenburg
END:VEVENT
END:VCALENDAR
