BEGIN:VCALENDAR
X-WR-TIMEZONE:Europe/Berlin
X-WR-CALNAME:rbb-Kalender
VERSION:2.0
METHOD:PUBLISH
CALSCALE:GREGORIAN
PRODID:rbb-CMS DAY
BEGIN:VEVENT
CLASS:PUBLIC
URL:http://www.rbb-online.de/content/rbb/rbb/klartext/ueber_den_tag_hinaus/umwelt/bernau_ist_fast_ueberall.html
DTEND:20051005T220500
DTSTART:20051005T220500
UID:/content/rbb/rbb/klartext/ueber_den_tag_hinaus/umwelt/bernau_ist_fast_ueberall
DTSTAMP:20140406T065950
DESCRIPTION:Der Müll ist längst ein Millionengeschäft. Seit den 90er Jahren wird die Entsorgung mehr und mehr privaten Firmen überlassen, um den Bürgern Kosten zu ersparen. Doch die neuen privaten Betreiber von Mülldeponien und Sortieranlagen werden kaum kontrolliert. So stellte sich nach dem verheerenden Brand von Bernau heraus, dass die Betreiber gut doppelt soviel Gewerbemüll lagerten, wie zugelassen. Kein Einzelfall. Mehr als ein Dutzend riesige verlassene Müllhalden gibt es in Brandenburg. Windige Investoren verdienten hier zunächst Millionen, doch für ihre Hinterlassenschaft soll jetzt der Steuerzahler aufkommen.
SUMMARY:Bernau ist fast überall: Wilde Mülldeponien in Brandenburg
END:VEVENT
END:VCALENDAR
