BEGIN:VCALENDAR
X-WR-TIMEZONE:Europe/Berlin
X-WR-CALNAME:rbb-Kalender
VERSION:2.0
METHOD:PUBLISH
CALSCALE:GREGORIAN
PRODID:rbb-CMS DAY
BEGIN:VEVENT
CLASS:PUBLIC
URL:http://www.rbb-online.de/content/rbb/rbb/klartext/ueber_den_tag_hinaus/umwelt/bruchlandung_protest.html
DTEND:20080507T220500
DTSTART:20080507T220500
UID:/content/rbb/rbb/klartext/ueber_den_tag_hinaus/umwelt/bruchlandung_protest
DTSTAMP:20140406T070508
DESCRIPTION:Mitten im Landschaftsschutzgebiet will der umtriebige Unternehmer Axel Hilpert einen Landeplatz für Wasserflugzeuge errichten. Wohlwollend von der Luftfahrtbehörde unterstützt. Auf eine Umweltverträglichkeitsprüfung wurde verzichtet. Anwohner und Hoteliers gehen auf die Barrikaden: Sie fürchten um die Zukunft eines naturnahen Tourismus.
SUMMARY:Bruchlandung: Protest gegen Wasserlandeplatz auf dem Schwielowsee
END:VEVENT
END:VCALENDAR
