BEGIN:VCALENDAR
X-WR-TIMEZONE:Europe/Berlin
X-WR-CALNAME:rbb-Kalender
VERSION:2.0
METHOD:PUBLISH
CALSCALE:GREGORIAN
PRODID:rbb-CMS DAY
BEGIN:VEVENT
CLASS:PUBLIC
URL:http://www.rbb-online.de/content/rbb/rbb/klartext/ueber_den_tag_hinaus/umwelt/uckermark_streit.html
DTEND:20081126T220500
DTSTART:20081126T220500
UID:/content/rbb/rbb/klartext/ueber_den_tag_hinaus/umwelt/uckermark_streit
DTSTAMP:20140406T064609
DESCRIPTION:Eine 380-kV-Höchstspannungsleitung soll die bisherigen Starkstromleitungen in der Uckermark ersetzen. In der Uckermark regt sich Widerstand: Es geht um Leukämierisiken für Kinder und Umweltschutz. Die neue Leitung könnte auch unter der Erde verlaufen, doch die brandenburgische CDU ist dagegen und die SPD beugt sich dem Koalitionspartner.
SUMMARY:Uckermark – Streit um neue Starkstromleitungen
END:VEVENT
END:VCALENDAR
