BEGIN:VCALENDAR
X-WR-TIMEZONE:Europe/Berlin
X-WR-CALNAME:rbb-Kalender
VERSION:2.0
METHOD:PUBLISH
CALSCALE:GREGORIAN
PRODID:rbb-CMS DAY
BEGIN:VEVENT
CLASS:PUBLIC
URL:http://www.rbb-online.de/content/rbb/rbb/klartext/ueber_den_tag_hinaus/umwelt/vattenfall___buergerproteste.html
DTEND:20100331T223000
DTSTART:20100331T223000
UID:/content/rbb/rbb/klartext/ueber_den_tag_hinaus/umwelt/vattenfall___buergerproteste
DTSTAMP:20140406T065241
DESCRIPTION:Wenn der Bagger kommt, müssen Menschen umziehen. So war es in Brandenburgs Braunkohleregion schon immer. Doch während der Energiekonzern Vattenfall für „abgebaggerte“ Häuschen aufkommt, gehen die, die direkt am Rand des Tagebaus wohnen werden, großteils leer aus. Lebensqualität ade. Da würden manche lieber abgebaggert – und vor allem entschädigt werden.
SUMMARY:Vattenfall – Bürgerproteste am Tagebaurand
END:VEVENT
END:VCALENDAR
