BEGIN:VCALENDAR
X-WR-TIMEZONE:Europe/Berlin
X-WR-CALNAME:rbb-Kalender
VERSION:2.0
METHOD:PUBLISH
CALSCALE:GREGORIAN
PRODID:rbb-CMS DAY
BEGIN:VEVENT
CLASS:PUBLIC
URL:http://www.rbb-online.de/content/rbb/rbb/klartext/ueber_den_tag_hinaus/wirtschaft/dumpingloehne_im_supermarkt.html
DTEND:20080910T220500
DTSTART:20080910T220500
UID:/content/rbb/rbb/klartext/ueber_den_tag_hinaus/wirtschaft/dumpingloehne_im_supermarkt
DTSTAMP:20140406T070429
DESCRIPTION:Während Ver.di noch um Spätarbeitszuschläge für die Beschäftigten im Einzelhandel kämpfte, haben einige Unternehmen bereits reagiert: so genannte Logistik-Firmen ersetzen fast die komplette Belegschaft – und das für nur wenig mehr als die Hälfte des Tariflohns.
SUMMARY:Dumpinglöhne im Supermarkt
END:VEVENT
END:VCALENDAR
