BEGIN:VCALENDAR
X-WR-TIMEZONE:Europe/Berlin
X-WR-CALNAME:rbb-Kalender
VERSION:2.0
METHOD:PUBLISH
CALSCALE:GREGORIAN
PRODID:rbb-CMS DAY
BEGIN:VEVENT
CLASS:PUBLIC
URL:http://www.rbb-online.de/content/rbb/rbb/klartext/ueber_den_tag_hinaus/wirtschaft/geheimsache_foerdergelder.html
DTEND:20051005T220500
DTSTART:20051005T220500
UID:/content/rbb/rbb/klartext/ueber_den_tag_hinaus/wirtschaft/geheimsache_foerdergelder
DTSTAMP:20140406T065713
DESCRIPTION:Schloss Boitzenburg, Traumhotel in der Uckermark. Hier wurden vermutlich rund 35 Millionen Euro Fördermittel veruntreut. Doch vor der Razzia wollte niemand etwas davon gewusst haben. Kein Wunder auch: Denn darüber, welches Unternehmen wie viele Fördergelder bekommt und warum, darf kaum jemand Bescheid wissen. Der Steuerzahler schon mal gar nicht. Sogar Parlamentarier müssen sich anstrengen, um an die Daten zu kommen. Und das gilt nur für Brandenburg: In Berlin kriegen selbst Abgeordnete gar keine Auskunft.
SUMMARY:Geheimsache Fördergelder: Wie die Steuerzahler über Subventionen im Dunkeln bleiben
END:VEVENT
END:VCALENDAR
