BEGIN:VCALENDAR
X-WR-TIMEZONE:Europe/Berlin
X-WR-CALNAME:rbb-Kalender
VERSION:2.0
METHOD:PUBLISH
CALSCALE:GREGORIAN
PRODID:rbb-CMS DAY
BEGIN:VEVENT
CLASS:PUBLIC
URL:http://www.rbb-online.de/content/rbb/rbb/klartext/ueber_den_tag_hinaus/wirtschaft/generation_praktikum.html
DTEND:20060111T220500
DTSTART:20060111T220500
UID:/content/rbb/rbb/klartext/ueber_den_tag_hinaus/wirtschaft/generation_praktikum
DTSTAMP:20140406T070411
DESCRIPTION:Sechs Monate Vollzeit-Arbeit ohne Lohn? – Studenten und Akademikern wird das häufig zugemutet. Denn Praktika, die früher eher als kurzzeitige Möglichkeit zum Einstieg in den Beruf gedacht waren, sind heute die Regel. Jetzt fordert der DGB eine Selbstverpflichtung für Unternehmen. Langzeitpraktikanten sollen mindestens 300 Euro im Monat verdienen. Und sie sollen keine regulären Arbeitsplätze mehr ersetzen dürfen. Aber wie das so ist mit Selbstverpflichtungen in der Wirtschaft: Kaum einer wird sich dran halten.
SUMMARY:"Generation Praktikum": Wie die Politik bei der Praktikantenausbeutung zusieht
END:VEVENT
END:VCALENDAR
