BEGIN:VCALENDAR
X-WR-TIMEZONE:Europe/Berlin
X-WR-CALNAME:rbb-Kalender
VERSION:2.0
METHOD:PUBLISH
CALSCALE:GREGORIAN
PRODID:rbb-CMS DAY
BEGIN:VEVENT
CLASS:PUBLIC
URL:http://www.rbb-online.de/content/rbb/rbb/klartext/ueber_den_tag_hinaus/wirtschaft/rabenmutter_oder_allzweckwaffe.html
DTEND:20060927T220500
DTSTART:20060927T220500
UID:/content/rbb/rbb/klartext/ueber_den_tag_hinaus/wirtschaft/rabenmutter_oder_allzweckwaffe
DTSTAMP:20140406T064512
DESCRIPTION:Maren Milbradt ist 27, Mutter und wieder schwanger. Ihr Chef würde sich gern mit ihr freuen, doch er weiß nicht, wie er ihre Mutterschaftszeit überbrücken soll. Denn adäquaten Ersatz bekommt er nicht. So produziert die Auszeit seiner Angestellten vor allem Kosten. Doch Maren Milbradt möchte ihren Beruf ausüben und Kinder, für sie ist das ein ausgeglichenes Leben. Viele andere junge Frauen verzichten lieber auf Kinder. KLARTEXT porträtiert Frauen mit unterschiedlichen Lebensentwürfen und hinterfragt die gesellschaftlichen Bedingungen.
SUMMARY:Rabenmutter oder Allzweckwaffe: Warum junge Frauen mit Kinderwunsch in der beruflichen Klemme sind
END:VEVENT
END:VCALENDAR
