BEGIN:VCALENDAR
X-WR-TIMEZONE:Europe/Berlin
X-WR-CALNAME:rbb-Kalender
VERSION:2.0
METHOD:PUBLISH
CALSCALE:GREGORIAN
PRODID:rbb-CMS DAY
BEGIN:VEVENT
CLASS:PUBLIC
URL:http://www.rbb-online.de/content/rbb/rbb/koecheundmoor/koeche_und_moor_archiv/Sternekoch-Kolja-Kleeberg.html
DTEND:20140420T184000
DTSTART:20140420T184000
UID:/content/rbb/rbb/koecheundmoor/koeche_und_moor_archiv/Sternekoch-Kolja-Kleeberg
DTSTAMP:20140404T182402
DESCRIPTION:Max Moor ist mit Sternekoch Kolja Kleeberg in Brandenburg unterwegs, dieses Mal auf der Suche nach regional produzierten Zutaten für Koljas Osterrezept: Geschmorte Zickleinschulter mit eingemachten Karotten, Chicorée und Kapernpest.\n
SUMMARY:Köche und Moor: Sternekoch Kolja Kleeberg
END:VEVENT
END:VCALENDAR
