BEGIN:VCALENDAR
X-WR-TIMEZONE:Europe/Berlin
X-WR-CALNAME:rbb-Kalender
VERSION:2.0
METHOD:PUBLISH
CALSCALE:GREGORIAN
PRODID:rbb-CMS DAY
BEGIN:VEVENT
CLASS:PUBLIC
URL:http://www.rbb-online.de/content/rbb/rbb/kontraste/archiv/kontraste-vom-06-02-2014/geschuerte-angst--bundesweite-allianz-macht-gegen-sexuelle-vielf.html
DTEND:20140206T221500
DTSTART:20140206T221500
UID:/content/rbb/rbb/kontraste/archiv/kontraste-vom-06-02-2014/geschuerte-angst--bundesweite-allianz-macht-gegen-sexuelle-vielf
DTSTAMP:20140405T002801
DESCRIPTION:Mit dem Entwurf zur Aufklärung über sexuelle Vielfalt an den Schulen in Baden-Württemberg hat die rot-grüne Landesregierung einen Sturm der Entrüstung bei konservativen Christen hervorgerufen. Sie sehen das traditionelle Familienbild gefährdet.\n\n\n
SUMMARY:Geschürte Angst: bundesweite Allianz macht gegen sexuelle Vielfalt an Schulen mobil
END:VEVENT
END:VCALENDAR
