BEGIN:VCALENDAR
X-WR-TIMEZONE:Europe/Berlin
X-WR-CALNAME:rbb-Kalender
VERSION:2.0
METHOD:PUBLISH
CALSCALE:GREGORIAN
PRODID:rbb-CMS DAY
BEGIN:VEVENT
CLASS:PUBLIC
URL:http://www.rbb-online.de/content/rbb/rbb/kontraste/archiv/kontraste-vom-12-12-2013.html
DTEND:20131212T221500
DTSTART:20131212T221500
UID:/content/rbb/rbb/kontraste/archiv/kontraste-vom-12-12-2013
DTSTAMP:20140405T001400
DESCRIPTION:Auf Kosten der Beitragszahler: Rekordpreise für Arzneimittel +++ Bittere Weihnachtsfreude: Kinderarbeit für Schokoträume +++ Umstrittener Namensgeber: Wernher von Braun zwischen SS und NASA +++ Renitenter Verfassungsschutz: Akteneinsicht verweigert\n\n\n
SUMMARY:Kontraste vom 12.12.2013
END:VEVENT
END:VCALENDAR
