BEGIN:VCALENDAR
X-WR-TIMEZONE:Europe/Berlin
X-WR-CALNAME:rbb-Kalender
VERSION:2.0
METHOD:PUBLISH
CALSCALE:GREGORIAN
PRODID:rbb-CMS DAY
BEGIN:VEVENT
CLASS:PUBLIC
URL:http://www.rbb-online.de/content/rbb/rbb/kontraste/archiv/kontraste-vom-15-08-2013/bevormundung.html
DTEND:20130815T214500
DTSTART:20130815T214500
UID:/content/rbb/rbb/kontraste/archiv/kontraste-vom-15-08-2013/bevormundung
DTSTAMP:20140405T222637
DESCRIPTION:Dürfen Asylbewerber als 1-Euro-Jobber für Bahnkunden die Koffer tragen? Die Stadt Schwäbisch-Gmünd meinte „Ja", doch als das Projekt publik wurde, lösten die Bilder einen Empörungssturm aus. Von Rassismus und Ausbeutung war die Rede, das Projekt wurde eingestellt. Die Asylbewerber, die sich über diesen Job freuten, wurden gar nicht erst gefragt.\n
SUMMARY:Bevormundung: Keine 1-Euro-Jobs für Asylbewerber
END:VEVENT
END:VCALENDAR
