BEGIN:VCALENDAR
X-WR-TIMEZONE:Europe/Berlin
X-WR-CALNAME:rbb-Kalender
VERSION:2.0
METHOD:PUBLISH
CALSCALE:GREGORIAN
PRODID:rbb-CMS DAY
BEGIN:VEVENT
CLASS:PUBLIC
URL:http://www.rbb-online.de/content/rbb/rbb/kontraste/archiv/kontraste-vom-16-01-2014.html
DTEND:20140116T221500
DTSTART:20140116T221500
UID:/content/rbb/rbb/kontraste/archiv/kontraste-vom-16-01-2014
DTSTAMP:20140405T001526
DESCRIPTION:Unerfüllter Kinderwunsch: Eizellen-Spende im Ausland als letzte Hoffnung +++ Einheitsfront gegen Arbeitnehmer: Bundesregierung, Arbeitgeber und DGB gegen Klein-Gewerkschaften +++ Zuwanderung als Schreckgespenst: Wie Kommunalpolitiker die Ängste vor Rumänen und Bulgaren schüren +++ NS-Raubkunst: Bayrische Staatsgemäldesammlungen lassen jüdische Erben abblitzen\n\n\n
SUMMARY:Kontraste vom 16.01.2014
END:VEVENT
END:VCALENDAR
