BEGIN:VCALENDAR
X-WR-TIMEZONE:Europe/Berlin
X-WR-CALNAME:rbb-Kalender
VERSION:2.0
METHOD:PUBLISH
CALSCALE:GREGORIAN
PRODID:rbb-CMS DAY
BEGIN:VEVENT
CLASS:PUBLIC
URL:http://www.rbb-online.de/content/rbb/rbb/kontraste/archiv/kontraste-vom-26-09-2013.html
DTEND:20130926T221500
DTSTART:20130926T221500
UID:/content/rbb/rbb/kontraste/archiv/kontraste-vom-26-09-2013
DTSTAMP:20140405T214959
DESCRIPTION:Geheime Sponsoren: Wer hat den Wahlkampf der Abgeordneten bezahlt? +++ Sanierungsfall Auschwitz: Wie viel ist Deutschland das Gedenken wert? +++ Umstritten: Geschlossene Heime für Kinder und Jugendliche +++ Hilflos: Leiharbeiter als Streikbrecher missbraucht\n
SUMMARY:Kontraste vom 26.09.2013
END:VEVENT
END:VCALENDAR
