BEGIN:VCALENDAR
X-WR-TIMEZONE:Europe/Berlin
X-WR-CALNAME:rbb-Kalender
VERSION:2.0
METHOD:PUBLISH
CALSCALE:GREGORIAN
PRODID:rbb-CMS DAY
BEGIN:VEVENT
CLASS:PUBLIC
URL:http://www.rbb-online.de/content/rbb/rbb/kontraste/archiv/kontraste-vom-27-02-2014/rechtsextremismus--bundesliga-vereine-scheuen-offene-konfrontati.html
DTEND:20140227T221500
DTSTART:20140227T221500
UID:/content/rbb/rbb/kontraste/archiv/kontraste-vom-27-02-2014/rechtsextremismus--bundesliga-vereine-scheuen-offene-konfrontati
DTSTAMP:20140405T002946
DESCRIPTION:In 16 Bundesligastadien stehen Neonazis auf der Tribüne. Aber die Vereine reagieren darauf kaum. Denn sie haben Angst um ihr wertvolles Image: So wie Borussia Dortmund und Eintracht Braunschweig. Unterdessen sorgt ihr Zögern für eine hartnäckige Verfestigung der rechtsextremen Szene auch außerhalb der Stadien.\n\n\n
SUMMARY:Rechtsextremismus: Bundesliga-Vereine scheuen offene Konfrontation mit Neonazis
END:VEVENT
END:VCALENDAR
