BEGIN:VCALENDAR
X-WR-TIMEZONE:Europe/Berlin
X-WR-CALNAME:rbb-Kalender
VERSION:2.0
METHOD:PUBLISH
CALSCALE:GREGORIAN
PRODID:rbb-CMS DAY
BEGIN:VEVENT
CLASS:PUBLIC
URL:http://www.rbb-online.de/content/rbb/rbb/kontraste/archiv/kontraste_vom_11_07.html
DTEND:20130711T214500
DTSTART:20130711T214500
UID:/content/rbb/rbb/kontraste/archiv/kontraste_vom_11_07
DTSTAMP:20140405T215124
DESCRIPTION:
SUMMARY:Kontraste vom 11.07.2013
END:VEVENT
END:VCALENDAR
