BEGIN:VCALENDAR
X-WR-TIMEZONE:Europe/Berlin
X-WR-CALNAME:rbb-Kalender
VERSION:2.0
METHOD:PUBLISH
CALSCALE:GREGORIAN
PRODID:rbb-CMS DAY
BEGIN:VEVENT
CLASS:PUBLIC
URL:http://www.rbb-online.de/content/rbb/rbb/kontraste/archiv/kontraste_vom_11_07/pflegenotstand-krankenhaeuser.html
DTEND:20130711T214500
DTSTART:20130711T214500
UID:/content/rbb/rbb/kontraste/archiv/kontraste_vom_11_07/pflegenotstand-krankenhaeuser
DTSTAMP:20140406T205350
DESCRIPTION:Deutschlands Krankenhauslobby wehrt sich gegen die Einführung eines Personalschlüssels für Pflegekräfte. Der Grund: Die Krankenhäuser bauen seit Jahren Pflegepersonal ab und steigern so ihre Gewinne - auf Kosten der Patienten.
SUMMARY:Pflegenotstand: Krankenhäuser gegen Personalschlüssel für Pflegekräfte
END:VEVENT
END:VCALENDAR
