BEGIN:VCALENDAR
X-WR-TIMEZONE:Europe/Berlin
X-WR-CALNAME:rbb-Kalender
VERSION:2.0
METHOD:PUBLISH
CALSCALE:GREGORIAN
PRODID:rbb-CMS DAY
BEGIN:VEVENT
CLASS:PUBLIC
URL:http://www.rbb-online.de/content/rbb/rbb/kontraste/archiv/kontraste_vom_11_07/ueberwachungsskandal.html
DTEND:20130711T214500
DTSTART:20130711T214500
UID:/content/rbb/rbb/kontraste/archiv/kontraste_vom_11_07/ueberwachungsskandal
DTSTAMP:20140406T205403
DESCRIPTION:Justizministerin Leutheusser-Schnarrenberger in der BBC, Trittin im Guardian und Westerwelle in der New York Times. Selten genießen deutsche Politiker soviel Aufmerksamkeit im Ausland: Als Hüter der Persönlichkeitsrechte, des Datenschutzes, der Grundrechte. Parteiübergreifend wird mit dem Finger auf den britischen und US-amerikanischen Geheimdienst gezeigt, doch welche Rechte hat der Bundesnachrichtendienst im Ausland und wer kontrolliert ihn?
SUMMARY:Überwachungsskandal: Was darf der Bundesnachrichtendienst?
END:VEVENT
END:VCALENDAR
