BEGIN:VCALENDAR
X-WR-TIMEZONE:Europe/Berlin
X-WR-CALNAME:rbb-Kalender
VERSION:2.0
METHOD:PUBLISH
CALSCALE:GREGORIAN
PRODID:rbb-CMS DAY
BEGIN:VEVENT
CLASS:PUBLIC
URL:http://www.rbb-online.de/content/rbb/rbb/kontraste/archiv/kontraste_vom_11_07/umstrittener-freiheitswahn.html
DTEND:20130711T214500
DTSTART:20130711T214500
UID:/content/rbb/rbb/kontraste/archiv/kontraste_vom_11_07/umstrittener-freiheitswahn
DTSTAMP:20140406T205413
DESCRIPTION:Für Unfallforscher und Ärzte steht seit Jahren fest: Viele schwere Unfälle von Radfahrern wären glimpflicher ausgegangen, hätte der Radler einen Helm getragen. Trotzdem wehrt sich der Lobbyverband ADFC gegen eine Helmpflicht. Kaum ein Politiker hält dagegen, Bundesverkehrsminister Ramsauer setzt auf Freiwilligkeit, der grüne Verkehrsminister Hermann will erstmal eine neue Studie abwarten.
SUMMARY:Umstrittener Freiheitswahn: Radfahrerlobby gegen Helmpflicht
END:VEVENT
END:VCALENDAR
