BEGIN:VCALENDAR
X-WR-TIMEZONE:Europe/Berlin
X-WR-CALNAME:rbb-Kalender
VERSION:2.0
METHOD:PUBLISH
CALSCALE:GREGORIAN
PRODID:rbb-CMS DAY
BEGIN:VEVENT
CLASS:PUBLIC
URL:http://www.rbb-online.de/content/rbb/rbb/kontraste/archiv/kontraste_vom_13_06/beim__lidl__discounter.html
DTEND:20130613T214500
DTSTART:20130613T214500
UID:/content/rbb/rbb/kontraste/archiv/kontraste_vom_13_06/beim__lidl__discounter
DTSTAMP:20140406T205238
DESCRIPTION:Die Supermarkt-Kette "Lidl" legt in einigen Filialen Gift gegen Ratten und Mäuse aus. Beschäftigte schilderten gegenüber dem ARD-Magazin "Kontraste", dass in Niedersachsen, Bayern und Berlin Rattengift in Verkaufsräumen eingesetzt würde. "Kontraste" lies in Berliner Lidl-Märkten Proben nehmen. Ein akkredititiertes Prüflabor bestätigte: es handelt sich um Rattengift.
SUMMARY:Beim "Lidl"-Discounter: Rattengift zwischen Lebensmitteln
END:VEVENT
END:VCALENDAR
