BEGIN:VCALENDAR
X-WR-TIMEZONE:Europe/Berlin
X-WR-CALNAME:rbb-Kalender
VERSION:2.0
METHOD:PUBLISH
CALSCALE:GREGORIAN
PRODID:rbb-CMS DAY
BEGIN:VEVENT
CLASS:PUBLIC
URL:http://www.rbb-online.de/content/rbb/rbb/kontraste/archiv/kontraste_vom_13_06/berliner_mysterium.html
DTEND:20130613T214500
DTSTART:20130613T214500
UID:/content/rbb/rbb/kontraste/archiv/kontraste_vom_13_06/berliner_mysterium
DTSTAMP:20140406T205230
DESCRIPTION:Venedig hat seine Gondeln, New York seine yellow cabs - und Berlin die Bierbikes. Und die sollen jetzt weg, meinen die Spaßbremsen in Politik und Polizei. Doch angeblich gibt es einen, der sie schützt: Klaus Wowereit.
SUMMARY:Berliner Mysterium: Schützt Wowereit die Bier-Bikes?
END:VEVENT
END:VCALENDAR
