BEGIN:VCALENDAR
X-WR-TIMEZONE:Europe/Berlin
X-WR-CALNAME:rbb-Kalender
VERSION:2.0
METHOD:PUBLISH
CALSCALE:GREGORIAN
PRODID:rbb-CMS DAY
BEGIN:VEVENT
CLASS:PUBLIC
URL:http://www.rbb-online.de/content/rbb/rbb/kontraste/archiv/kontraste_vom_16_05/ber__beruehmt___erfolgreich.html
DTEND:20130516T214500
DTSTART:20130516T214500
UID:/content/rbb/rbb/kontraste/archiv/kontraste_vom_16_05/ber__beruehmt___erfolgreich
DTSTAMP:20140406T205454
DESCRIPTION:Mit Hartmut Mehdorn an der Spitze nimmt das Projekt BER wieder Fahrt auf, schon früh um 9 wird im Projekt Management Office von Sprint an der Zukunft gearbeitet. Offen und hierarchiefrei geht es zur Sache - endlich!
SUMMARY:BER: Berühmt - Erfolgreich - Richtungsweisend
END:VEVENT
END:VCALENDAR
