BEGIN:VCALENDAR
X-WR-TIMEZONE:Europe/Berlin
X-WR-CALNAME:rbb-Kalender
VERSION:2.0
METHOD:PUBLISH
CALSCALE:GREGORIAN
PRODID:rbb-CMS DAY
BEGIN:VEVENT
CLASS:PUBLIC
URL:http://www.rbb-online.de/content/rbb/rbb/kontraste/archiv/kontraste_vom_16_05/neue_ermittlungen.html
DTEND:20130516T214500
DTSTART:20130516T214500
UID:/content/rbb/rbb/kontraste/archiv/kontraste_vom_16_05/neue_ermittlungen
DTSTAMP:20140406T205447
DESCRIPTION:Auf den ersten Blick scheint es ein Erfolg zu sein: 68 Jahre nach Kriegsende wird gegen 50 ehemalige SS-Wachmänner aus dem Vernichtungslager Auschwitz-Birkenau ermittelt. Doch KONTRASTE-Recherchen ergaben: Die mutmaßlichen Täter sind zwar der Justiz seit Jahrzehnten bekannt, doch die zuständigen Staatsanwälte in der Zentralen Stelle zur Verfolgung nationalsozialistischer Gewalttaten handelten nicht.
SUMMARY:Neue Ermittlungen zu Auschwitz: Justizversagen statt später Gerechtigkeit
END:VEVENT
END:VCALENDAR
