BEGIN:VCALENDAR
X-WR-TIMEZONE:Europe/Berlin
X-WR-CALNAME:rbb-Kalender
VERSION:2.0
METHOD:PUBLISH
CALSCALE:GREGORIAN
PRODID:rbb-CMS DAY
BEGIN:VEVENT
CLASS:PUBLIC
URL:http://www.rbb-online.de/content/rbb/rbb/kontraste/archiv/kontraste_vom_16_05/zwangsraeumungen_.html
DTEND:20130516T214500
DTSTART:20130516T214500
UID:/content/rbb/rbb/kontraste/archiv/kontraste_vom_16_05/zwangsraeumungen_
DTSTAMP:20140406T205432
DESCRIPTION:Mieten in Innenstädten explodieren - unbestritten. Immer mehr Menschen werden in der Folge aus ihren Wohnungen vertrieben - das behaupten zumindest die anonymen Aktivisten der Kampagne gegen Zwangsräumungen. Sie nutzen den Tod einer Berliner Rentnerin, die gegen ihren Willen aus ihrer Wohnung gewiesen wurde für eine Kampagne gegen die Vermieterin. Doch hinter dem tragischen Ereignis verbirgt sich eine Geschichte, die so gar nicht für den politischen Schlagabtausch taugt.
SUMMARY:Zwangsräumungen: Falsches Spiel mit dem Tod einer Rentnerin
END:VEVENT
END:VCALENDAR
